BEGIN:VCALENDAR
VERSION:2.0
BEGIN:VEVENT
UID:58178625-8624-4515-5451-000000010337
SUMMARY:Verpackungsmüll
DESCRIPTION;ENCODING=QUOTED-PRINTABLE:Verpackungsmüll ist eine Regelabfuhr, eine Anmeldung ist nicht erforderlich.
DTSTART:20260429
DTEND:20260430
END:VEVENT
BEGIN:VEVENT
UID:58178625-8624-4515-5451-000000010338
SUMMARY:Verpackungsmüll
DESCRIPTION;ENCODING=QUOTED-PRINTABLE:Verpackungsmüll ist eine Regelabfuhr, eine Anmeldung ist nicht erforderlich.
DTSTART:20260529
DTEND:20260530
END:VEVENT
BEGIN:VEVENT
UID:58178625-8624-4515-5451-000000010339
SUMMARY:Verpackungsmüll
DESCRIPTION;ENCODING=QUOTED-PRINTABLE:Verpackungsmüll ist eine Regelabfuhr, eine Anmeldung ist nicht erforderlich.
DTSTART:20260625
DTEND:20260626
END:VEVENT
BEGIN:VEVENT
UID:58178625-8624-4515-5451-000000010340
SUMMARY:Verpackungsmüll
DESCRIPTION;ENCODING=QUOTED-PRINTABLE:Verpackungsmüll ist eine Regelabfuhr, eine Anmeldung ist nicht erforderlich.
DTSTART:20260723
DTEND:20260724
END:VEVENT
BEGIN:VEVENT
UID:58178625-8624-4515-5451-000000010341
SUMMARY:Verpackungsmüll
DESCRIPTION;ENCODING=QUOTED-PRINTABLE:Verpackungsmüll ist eine Regelabfuhr, eine Anmeldung ist nicht erforderlich.
DTSTART:20260820
DTEND:20260821
END:VEVENT
BEGIN:VEVENT
UID:58178625-8624-4515-5451-000000010342
SUMMARY:Verpackungsmüll
DESCRIPTION;ENCODING=QUOTED-PRINTABLE:Verpackungsmüll ist eine Regelabfuhr, eine Anmeldung ist nicht erforderlich.
DTSTART:20260917
DTEND:20260918
END:VEVENT
BEGIN:VEVENT
UID:58178625-8624-4515-5451-000000010343
SUMMARY:Verpackungsmüll
DESCRIPTION;ENCODING=QUOTED-PRINTABLE:Verpackungsmüll ist eine Regelabfuhr, eine Anmeldung ist nicht erforderlich.
DTSTART:20261015
DTEND:20261016
END:VEVENT
BEGIN:VEVENT
UID:58178625-8624-4515-5451-000000010344
SUMMARY:Verpackungsmüll
DESCRIPTION;ENCODING=QUOTED-PRINTABLE:Verpackungsmüll ist eine Regelabfuhr, eine Anmeldung ist nicht erforderlich.
DTSTART:20261112
DTEND:20261113
END:VEVENT
BEGIN:VEVENT
UID:58178625-8624-4515-5451-000000010345
SUMMARY:Verpackungsmüll
DESCRIPTION;ENCODING=QUOTED-PRINTABLE:Verpackungsmüll ist eine Regelabfuhr, eine Anmeldung ist nicht erforderlich.
DTSTART:20261210
DTEND:20261211
END:VEVENT
END:VCALENDAR
