BEGIN:VCALENDAR
VERSION:2.0
BEGIN:VEVENT
UID:58178625-8624-4515-5451-000000010273
SUMMARY:Verpackungsmüll
DESCRIPTION;ENCODING=QUOTED-PRINTABLE:Verpackungsmüll ist eine Regelabfuhr, eine Anmeldung ist nicht erforderlich.
DTSTART:20260505
DTEND:20260506
END:VEVENT
BEGIN:VEVENT
UID:58178625-8624-4515-5451-000000010274
SUMMARY:Verpackungsmüll
DESCRIPTION;ENCODING=QUOTED-PRINTABLE:Verpackungsmüll ist eine Regelabfuhr, eine Anmeldung ist nicht erforderlich.
DTSTART:20260602
DTEND:20260603
END:VEVENT
BEGIN:VEVENT
UID:58178625-8624-4515-5451-000000010275
SUMMARY:Verpackungsmüll
DESCRIPTION;ENCODING=QUOTED-PRINTABLE:Verpackungsmüll ist eine Regelabfuhr, eine Anmeldung ist nicht erforderlich.
DTSTART:20260630
DTEND:20260701
END:VEVENT
BEGIN:VEVENT
UID:58178625-8624-4515-5451-000000010276
SUMMARY:Verpackungsmüll
DESCRIPTION;ENCODING=QUOTED-PRINTABLE:Verpackungsmüll ist eine Regelabfuhr, eine Anmeldung ist nicht erforderlich.
DTSTART:20260728
DTEND:20260729
END:VEVENT
BEGIN:VEVENT
UID:58178625-8624-4515-5451-000000010277
SUMMARY:Verpackungsmüll
DESCRIPTION;ENCODING=QUOTED-PRINTABLE:Verpackungsmüll ist eine Regelabfuhr, eine Anmeldung ist nicht erforderlich.
DTSTART:20260825
DTEND:20260826
END:VEVENT
BEGIN:VEVENT
UID:58178625-8624-4515-5451-000000010278
SUMMARY:Verpackungsmüll
DESCRIPTION;ENCODING=QUOTED-PRINTABLE:Verpackungsmüll ist eine Regelabfuhr, eine Anmeldung ist nicht erforderlich.
DTSTART:20260922
DTEND:20260923
END:VEVENT
BEGIN:VEVENT
UID:58178625-8624-4515-5451-000000010279
SUMMARY:Verpackungsmüll
DESCRIPTION;ENCODING=QUOTED-PRINTABLE:Verpackungsmüll ist eine Regelabfuhr, eine Anmeldung ist nicht erforderlich.
DTSTART:20261020
DTEND:20261021
END:VEVENT
BEGIN:VEVENT
UID:58178625-8624-4515-5451-000000010280
SUMMARY:Verpackungsmüll
DESCRIPTION;ENCODING=QUOTED-PRINTABLE:Verpackungsmüll ist eine Regelabfuhr, eine Anmeldung ist nicht erforderlich.
DTSTART:20261117
DTEND:20261118
END:VEVENT
BEGIN:VEVENT
UID:58178625-8624-4515-5451-000000010281
SUMMARY:Verpackungsmüll
DESCRIPTION;ENCODING=QUOTED-PRINTABLE:Verpackungsmüll ist eine Regelabfuhr, eine Anmeldung ist nicht erforderlich.
DTSTART:20261215
DTEND:20261216
END:VEVENT
END:VCALENDAR
