BEGIN:VCALENDAR
VERSION:2.0
BEGIN:VEVENT
UID:58178625-8624-4515-5451-000000010286
SUMMARY:Verpackungsmüll
DESCRIPTION;ENCODING=QUOTED-PRINTABLE:Verpackungsmüll ist eine Regelabfuhr, eine Anmeldung ist nicht erforderlich.
DTSTART:20260515
DTEND:20260516
END:VEVENT
BEGIN:VEVENT
UID:58178625-8624-4515-5451-000000010287
SUMMARY:Verpackungsmüll
DESCRIPTION;ENCODING=QUOTED-PRINTABLE:Verpackungsmüll ist eine Regelabfuhr, eine Anmeldung ist nicht erforderlich.
DTSTART:20260611
DTEND:20260612
END:VEVENT
BEGIN:VEVENT
UID:58178625-8624-4515-5451-000000010288
SUMMARY:Verpackungsmüll
DESCRIPTION;ENCODING=QUOTED-PRINTABLE:Verpackungsmüll ist eine Regelabfuhr, eine Anmeldung ist nicht erforderlich.
DTSTART:20260709
DTEND:20260710
END:VEVENT
BEGIN:VEVENT
UID:58178625-8624-4515-5451-000000010289
SUMMARY:Verpackungsmüll
DESCRIPTION;ENCODING=QUOTED-PRINTABLE:Verpackungsmüll ist eine Regelabfuhr, eine Anmeldung ist nicht erforderlich.
DTSTART:20260806
DTEND:20260807
END:VEVENT
BEGIN:VEVENT
UID:58178625-8624-4515-5451-000000010290
SUMMARY:Verpackungsmüll
DESCRIPTION;ENCODING=QUOTED-PRINTABLE:Verpackungsmüll ist eine Regelabfuhr, eine Anmeldung ist nicht erforderlich.
DTSTART:20260903
DTEND:20260904
END:VEVENT
BEGIN:VEVENT
UID:58178625-8624-4515-5451-000000010291
SUMMARY:Verpackungsmüll
DESCRIPTION;ENCODING=QUOTED-PRINTABLE:Verpackungsmüll ist eine Regelabfuhr, eine Anmeldung ist nicht erforderlich.
DTSTART:20261001
DTEND:20261002
END:VEVENT
BEGIN:VEVENT
UID:58178625-8624-4515-5451-000000010292
SUMMARY:Verpackungsmüll
DESCRIPTION;ENCODING=QUOTED-PRINTABLE:Verpackungsmüll ist eine Regelabfuhr, eine Anmeldung ist nicht erforderlich.
DTSTART:20261029
DTEND:20261030
END:VEVENT
BEGIN:VEVENT
UID:58178625-8624-4515-5451-000000010293
SUMMARY:Verpackungsmüll
DESCRIPTION;ENCODING=QUOTED-PRINTABLE:Verpackungsmüll ist eine Regelabfuhr, eine Anmeldung ist nicht erforderlich.
DTSTART:20261126
DTEND:20261127
END:VEVENT
BEGIN:VEVENT
UID:58178625-8624-4515-5451-000000010294
SUMMARY:Verpackungsmüll
DESCRIPTION;ENCODING=QUOTED-PRINTABLE:Verpackungsmüll ist eine Regelabfuhr, eine Anmeldung ist nicht erforderlich.
DTSTART:20261223
DTEND:20261224
END:VEVENT
END:VCALENDAR
