BEGIN:VCALENDAR
VERSION:2.0
BEGIN:VEVENT
UID:58178625-8624-4515-5451-000000010261
SUMMARY:Verpackungsmüll
DESCRIPTION;ENCODING=QUOTED-PRINTABLE:Verpackungsmüll ist eine Regelabfuhr, eine Anmeldung ist nicht erforderlich.
DTSTART:20260513
DTEND:20260514
END:VEVENT
BEGIN:VEVENT
UID:58178625-8624-4515-5451-000000010262
SUMMARY:Verpackungsmüll
DESCRIPTION;ENCODING=QUOTED-PRINTABLE:Verpackungsmüll ist eine Regelabfuhr, eine Anmeldung ist nicht erforderlich.
DTSTART:20260610
DTEND:20260611
END:VEVENT
BEGIN:VEVENT
UID:58178625-8624-4515-5451-000000010263
SUMMARY:Verpackungsmüll
DESCRIPTION;ENCODING=QUOTED-PRINTABLE:Verpackungsmüll ist eine Regelabfuhr, eine Anmeldung ist nicht erforderlich.
DTSTART:20260708
DTEND:20260709
END:VEVENT
BEGIN:VEVENT
UID:58178625-8624-4515-5451-000000010264
SUMMARY:Verpackungsmüll
DESCRIPTION;ENCODING=QUOTED-PRINTABLE:Verpackungsmüll ist eine Regelabfuhr, eine Anmeldung ist nicht erforderlich.
DTSTART:20260805
DTEND:20260806
END:VEVENT
BEGIN:VEVENT
UID:58178625-8624-4515-5451-000000010265
SUMMARY:Verpackungsmüll
DESCRIPTION;ENCODING=QUOTED-PRINTABLE:Verpackungsmüll ist eine Regelabfuhr, eine Anmeldung ist nicht erforderlich.
DTSTART:20260902
DTEND:20260903
END:VEVENT
BEGIN:VEVENT
UID:58178625-8624-4515-5451-000000010266
SUMMARY:Verpackungsmüll
DESCRIPTION;ENCODING=QUOTED-PRINTABLE:Verpackungsmüll ist eine Regelabfuhr, eine Anmeldung ist nicht erforderlich.
DTSTART:20260930
DTEND:20261001
END:VEVENT
BEGIN:VEVENT
UID:58178625-8624-4515-5451-000000010267
SUMMARY:Verpackungsmüll
DESCRIPTION;ENCODING=QUOTED-PRINTABLE:Verpackungsmüll ist eine Regelabfuhr, eine Anmeldung ist nicht erforderlich.
DTSTART:20261028
DTEND:20261029
END:VEVENT
BEGIN:VEVENT
UID:58178625-8624-4515-5451-000000010268
SUMMARY:Verpackungsmüll
DESCRIPTION;ENCODING=QUOTED-PRINTABLE:Verpackungsmüll ist eine Regelabfuhr, eine Anmeldung ist nicht erforderlich.
DTSTART:20261125
DTEND:20261126
END:VEVENT
BEGIN:VEVENT
UID:58178625-8624-4515-5451-000000010269
SUMMARY:Verpackungsmüll
DESCRIPTION;ENCODING=QUOTED-PRINTABLE:Verpackungsmüll ist eine Regelabfuhr, eine Anmeldung ist nicht erforderlich.
DTSTART:20261222
DTEND:20261223
END:VEVENT
END:VCALENDAR
