BEGIN:VCALENDAR
VERSION:2.0
BEGIN:VEVENT
UID:58178625-8624-4515-5451-000000010324
SUMMARY:Verpackungsmüll
DESCRIPTION;ENCODING=QUOTED-PRINTABLE:Verpackungsmüll ist eine Regelabfuhr, eine Anmeldung ist nicht erforderlich.
DTSTART:20260423
DTEND:20260424
END:VEVENT
BEGIN:VEVENT
UID:58178625-8624-4515-5451-000000010325
SUMMARY:Verpackungsmüll
DESCRIPTION;ENCODING=QUOTED-PRINTABLE:Verpackungsmüll ist eine Regelabfuhr, eine Anmeldung ist nicht erforderlich.
DTSTART:20260521
DTEND:20260522
END:VEVENT
BEGIN:VEVENT
UID:58178625-8624-4515-5451-000000010326
SUMMARY:Verpackungsmüll
DESCRIPTION;ENCODING=QUOTED-PRINTABLE:Verpackungsmüll ist eine Regelabfuhr, eine Anmeldung ist nicht erforderlich.
DTSTART:20260618
DTEND:20260619
END:VEVENT
BEGIN:VEVENT
UID:58178625-8624-4515-5451-000000010327
SUMMARY:Verpackungsmüll
DESCRIPTION;ENCODING=QUOTED-PRINTABLE:Verpackungsmüll ist eine Regelabfuhr, eine Anmeldung ist nicht erforderlich.
DTSTART:20260716
DTEND:20260717
END:VEVENT
BEGIN:VEVENT
UID:58178625-8624-4515-5451-000000010328
SUMMARY:Verpackungsmüll
DESCRIPTION;ENCODING=QUOTED-PRINTABLE:Verpackungsmüll ist eine Regelabfuhr, eine Anmeldung ist nicht erforderlich.
DTSTART:20260813
DTEND:20260814
END:VEVENT
BEGIN:VEVENT
UID:58178625-8624-4515-5451-000000010329
SUMMARY:Verpackungsmüll
DESCRIPTION;ENCODING=QUOTED-PRINTABLE:Verpackungsmüll ist eine Regelabfuhr, eine Anmeldung ist nicht erforderlich.
DTSTART:20260910
DTEND:20260911
END:VEVENT
BEGIN:VEVENT
UID:58178625-8624-4515-5451-000000010330
SUMMARY:Verpackungsmüll
DESCRIPTION;ENCODING=QUOTED-PRINTABLE:Verpackungsmüll ist eine Regelabfuhr, eine Anmeldung ist nicht erforderlich.
DTSTART:20261008
DTEND:20261009
END:VEVENT
BEGIN:VEVENT
UID:58178625-8624-4515-5451-000000010331
SUMMARY:Verpackungsmüll
DESCRIPTION;ENCODING=QUOTED-PRINTABLE:Verpackungsmüll ist eine Regelabfuhr, eine Anmeldung ist nicht erforderlich.
DTSTART:20261105
DTEND:20261106
END:VEVENT
BEGIN:VEVENT
UID:58178625-8624-4515-5451-000000010332
SUMMARY:Verpackungsmüll
DESCRIPTION;ENCODING=QUOTED-PRINTABLE:Verpackungsmüll ist eine Regelabfuhr, eine Anmeldung ist nicht erforderlich.
DTSTART:20261203
DTEND:20261204
END:VEVENT
BEGIN:VEVENT
UID:58178625-8624-4515-5451-000000010333
SUMMARY:Verpackungsmüll
DESCRIPTION;ENCODING=QUOTED-PRINTABLE:Verpackungsmüll ist eine Regelabfuhr, eine Anmeldung ist nicht erforderlich.
DTSTART:20261231
DTEND:20270101
END:VEVENT
END:VCALENDAR
